BEGIN:VCALENDAR
VERSION:2.0
METHOD:PUBLISH
BEGIN:VEVENT
DTSTAMP:20260421T225527Z
DTSTART:20210424T130000Z
DTEND:20210424T180000Z
SUMMARY:Household Hazardous Waste Collection
LOCATION:Clean Harbours Canada, 4090 Telfer Road, St. Clair Township, ON
END:VEVENT
END:VCALENDAR
