BEGIN:VCALENDAR
VERSION:2.0
METHOD:PUBLISH
BEGIN:VEVENT
DTSTAMP:20260421T222116Z
DTSTART:20260401T140000Z
DTEND:20260401T190000Z
SUMMARY:Childcare Career Fair
LOCATION:Royal Canadian Legion Branch 62 (286 Front St. N., Sarnia)
END:VEVENT
END:VCALENDAR
