BEGIN:VCALENDAR
VERSION:2.0
METHOD:PUBLISH
BEGIN:VEVENT
DTSTAMP:20260421T222130Z
DTSTART:20260410T133000Z
DTEND:20260410T193000Z
SUMMARY:Service Canada @ LWC
LOCATION:Lambton Shared Services Centre, 162 Lochiel Street, Sarnia
END:VEVENT
END:VCALENDAR
