BEGIN:VCALENDAR
VERSION:2.0
METHOD:PUBLISH
BEGIN:VEVENT
DTSTAMP:20260421T222238Z
DTSTART:20260410T140000Z
DTEND:20260410T160000Z
SUMMARY:Worker Health &amp; Safety Awareness Training
LOCATION:Lambton Shared Services Centre, 162 Lochiel Street, Sarnia
END:VEVENT
END:VCALENDAR
