BEGIN:VCALENDAR
VERSION:2.0
METHOD:PUBLISH
BEGIN:VEVENT
DTSTAMP:20260423T181354Z
DTSTART:20260413T170000Z
DTEND:20260413T200000Z
SUMMARY:Special Community Outreach Event
LOCATION:4200 Petrolia Line, Petrolia
END:VEVENT
END:VCALENDAR
