BEGIN:VCALENDAR
VERSION:2.0
METHOD:PUBLISH
BEGIN:VEVENT
DTSTAMP:20260421T221804Z
DTSTART:20260415T170000Z
DTEND:20260415T200000Z
SUMMARY:Community Corner / Coin Communautaire - Literacy Lambton
LOCATION:Lambton Shared Services Centre, 162 Lochiel Street, Sarnia
END:VEVENT
END:VCALENDAR
