BEGIN:VCALENDAR
VERSION:2.0
METHOD:PUBLISH
BEGIN:VEVENT
DTSTAMP:20260421T221012Z
DTSTART:20260416T180000Z
DTEND:20260416T220000Z
SUMMARY:County of Lambton Career Fair
LOCATION:Dante Club Main Ballroom - 1330 London Road, Sarnia
END:VEVENT
END:VCALENDAR
