BEGIN:VCALENDAR
VERSION:2.0
METHOD:PUBLISH
BEGIN:VEVENT
DTSTAMP:20260421T221141Z
DTSTART:20260423T133000Z
DTEND:20260423T193000Z
SUMMARY:Service Canada @ LWC
LOCATION:Lambton Shared Services Centre, 162 Lochiel Street, Sarnia
END:VEVENT
END:VCALENDAR
