BEGIN:VCALENDAR
VERSION:2.0
METHOD:PUBLISH
BEGIN:VEVENT
DTSTAMP:20260421T221438Z
DTSTART:20260425T130000Z
DTEND:20260425T180000Z
SUMMARY:Household Hazardous Waste Collection
LOCATION:4090 Telfer Road, St. Clair Township
END:VEVENT
END:VCALENDAR
