BEGIN:VCALENDAR
VERSION:2.0
METHOD:PUBLISH
BEGIN:VEVENT
DTSTAMP:20260422T042358Z
DTSTART:20210407T133000Z
DTEND:20210407T150000Z
SUMMARY:Council Meeting - April 7, 2021
END:VEVENT
END:VCALENDAR
