BEGIN:VCALENDAR
VERSION:2.0
METHOD:PUBLISH
BEGIN:VEVENT
DTSTAMP:20260420T113801Z
DTSTART:20211124T143000Z
DTEND:20211124T160000Z
SUMMARY:Council Meeting - November 24, 2021
END:VEVENT
END:VCALENDAR
